BEGIN:VCALENDAR
VERSION:2.0
PRODID:-//L&#039;Herberie de la Saulx - ECPv6.15.20//NONSGML v1.0//EN
CALSCALE:GREGORIAN
METHOD:PUBLISH
X-WR-CALNAME:L&#039;Herberie de la Saulx
X-ORIGINAL-URL:https://lherberiedelasaulx.fr
X-WR-CALDESC:Évènements pour L&#039;Herberie de la Saulx
REFRESH-INTERVAL;VALUE=DURATION:PT1H
X-Robots-Tag:noindex
X-PUBLISHED-TTL:PT1H
BEGIN:VTIMEZONE
TZID:Europe/Paris
BEGIN:DAYLIGHT
TZOFFSETFROM:+0100
TZOFFSETTO:+0200
TZNAME:CEST
DTSTART:20230326T010000
END:DAYLIGHT
BEGIN:STANDARD
TZOFFSETFROM:+0200
TZOFFSETTO:+0100
TZNAME:CET
DTSTART:20231029T010000
END:STANDARD
BEGIN:DAYLIGHT
TZOFFSETFROM:+0100
TZOFFSETTO:+0200
TZNAME:CEST
DTSTART:20240331T010000
END:DAYLIGHT
BEGIN:STANDARD
TZOFFSETFROM:+0200
TZOFFSETTO:+0100
TZNAME:CET
DTSTART:20241027T010000
END:STANDARD
BEGIN:DAYLIGHT
TZOFFSETFROM:+0100
TZOFFSETTO:+0200
TZNAME:CEST
DTSTART:20250330T010000
END:DAYLIGHT
BEGIN:STANDARD
TZOFFSETFROM:+0200
TZOFFSETTO:+0100
TZNAME:CET
DTSTART:20251026T010000
END:STANDARD
END:VTIMEZONE
BEGIN:VEVENT
DTSTART;TZID=Europe/Paris:20241207T140000
DTEND;TZID=Europe/Paris:20241208T180000
DTSTAMP:20260423T003956
CREATED:20241118T143852Z
LAST-MODIFIED:20241118T144029Z
UID:2949-1733580000-1733680800@lherberiedelasaulx.fr
SUMMARY:Marché de Noël à l'Herberie
DESCRIPTION:Marché de Noël à l’Herberie de la Saulx. \nComme chaque année\, l’association l’Herberie et Cie propose un marché de Noël dans les granges de l’Herberie de la Saulx. \nVenez dénicher de jolies pépites auprès des artistes et artisans locaux qui seront présents. \n\nSamedi 7 et dimanche 8 décembre 2024\n\nEntrée gratuite\n\nPlus d’infos sur la page dédiée (marché de Noël)
URL:https://lherberiedelasaulx.fr/evt/mdn2024/
LOCATION:Mognéville\, 4 rue de l'église\, Mognéville\, 55800\, France
CATEGORIES:Accueil à la ferme,Marchés et salons
ATTACH;FMTTYPE=image/jpeg:https://lherberiedelasaulx.fr/wp-content/uploads/2024/11/mdn2024-vignette.jpg
END:VEVENT
END:VCALENDAR