BEGIN:VCALENDAR
VERSION:2.0
PRODID:-//L&#039;Herberie de la Saulx - ECPv6.15.20//NONSGML v1.0//EN
CALSCALE:GREGORIAN
METHOD:PUBLISH
X-WR-CALNAME:L&#039;Herberie de la Saulx
X-ORIGINAL-URL:https://lherberiedelasaulx.fr
X-WR-CALDESC:Évènements pour L&#039;Herberie de la Saulx
REFRESH-INTERVAL;VALUE=DURATION:PT1H
X-Robots-Tag:noindex
X-PUBLISHED-TTL:PT1H
BEGIN:VTIMEZONE
TZID:Europe/Paris
BEGIN:DAYLIGHT
TZOFFSETFROM:+0100
TZOFFSETTO:+0200
TZNAME:CEST
DTSTART:20240331T010000
END:DAYLIGHT
BEGIN:STANDARD
TZOFFSETFROM:+0200
TZOFFSETTO:+0100
TZNAME:CET
DTSTART:20241027T010000
END:STANDARD
BEGIN:DAYLIGHT
TZOFFSETFROM:+0100
TZOFFSETTO:+0200
TZNAME:CEST
DTSTART:20250330T010000
END:DAYLIGHT
BEGIN:STANDARD
TZOFFSETFROM:+0200
TZOFFSETTO:+0100
TZNAME:CET
DTSTART:20251026T010000
END:STANDARD
BEGIN:DAYLIGHT
TZOFFSETFROM:+0100
TZOFFSETTO:+0200
TZNAME:CEST
DTSTART:20260329T010000
END:DAYLIGHT
BEGIN:STANDARD
TZOFFSETFROM:+0200
TZOFFSETTO:+0100
TZNAME:CET
DTSTART:20261025T010000
END:STANDARD
END:VTIMEZONE
BEGIN:VEVENT
DTSTART;TZID=Europe/Paris:20250508T090000
DTEND;TZID=Europe/Paris:20250508T170000
DTSTAMP:20260422T155031
CREATED:20250217T165714Z
LAST-MODIFIED:20250217T165714Z
UID:3179-1746694800-1746723600@lherberiedelasaulx.fr
SUMMARY:Chantier participatif : peinture naturelle des portes de grange
DESCRIPTION:Chantier participatif de printemps !\n\nNatacha (@association l’herberie et cie) propose de partager ses connaissances sur la peinture au naturel : comment bien « décrasser » le bois avant de peindre ? quelle recette et quels ingrédients utiliser selon votre projet ?\n\nNotre chantier du jour :\nDécaper et repeindre les vieilles portes des granges de la ferme\n\nSi ça vous tente de venir nous donner un petit coup de main dans la bonne humeur\, tout en apprenant de nouvelles techniques\, n’hésitez pas à nous rejoindre !\n\nPensez à nous prévenir de votre participation (sur notre mail de contact ou par SMS\, ou par pigeon voyageur)\, pour qu’on puisse prévoir les collations suffisantes\, et pour qu’on vous prévienne en cas de changement…\n\n\nRDV vers 10h à la ferme\, repas tiré du sac et fin de la journée quand ça vous chante
URL:https://lherberiedelasaulx.fr/evt/chantier-peinture/
LOCATION:L’Herberie de la Saulx\, 11 rue de Rippe\, Mognéville\, 55800\, France
CATEGORIES:Accueil à la ferme,Chantier participatif
ATTACH;FMTTYPE=image/webp:https://lherberiedelasaulx.fr/wp-content/uploads/2025/02/chantier-portes-08-05.webp
ORGANIZER;CN="L'Herberie de la Saulx":MAILTO:contact@lherberiedelasaulx.fr
END:VEVENT
BEGIN:VEVENT
DTSTART;TZID=Europe/Paris:20250525T150000
DTEND;TZID=Europe/Paris:20250525T170000
DTSTAMP:20260422T155031
CREATED:20250505T080643Z
LAST-MODIFIED:20250505T080643Z
UID:3602-1748185200-1748192400@lherberiedelasaulx.fr
SUMMARY:Stage poterie
DESCRIPTION:Venez passez un moment créatif et agréable au contact de la terre avec Marine (Poppy Pottery) !\n\nCet atelier poterie se déroulera dans le charmant cadre de l’Herberie de la Saulx\, en pleine nature. Nous réaliserons deux tasses avec la technique du Bol pincé…\n\nDeux tasses à votre image que nous viendrons ensuite personnaliser avec de la couleur\, des effets de matières\, d’empreintes…c’est vous qui choisirez !\n\nIl faudra prévoir un temps de séchage\, deux cuissons et un émaillage à vos pièces avant de de les récupérer (étapes que Marine se charge de réaliser) puis elles seront à votre disposition à l’Herberie de la Saulx sous 4 à 6 semaines (ou possibilité d’envoi des pièces après cuisson moyennant 15€).\n\nAtelier ouvert aux adultes\, et grands ados à partir de 16 ans. Aucun pré-requis\, tout niveau est accepté !\n\nInformations pratiques :• Sur réservation uniquement : https://tinyurl.com/28utjx9t• Places limitées • Tarif : 50€ (ce tarif comprend l’atelier\, les cuissons et les pièces confectionnées)
URL:https://lherberiedelasaulx.fr/evt/atelier-poterie/
LOCATION:L’Herberie de la Saulx\, 11 rue de Rippe\, Mognéville\, 55800\, France
CATEGORIES:Accueil à la ferme,Stages et ateliers
ATTACH;FMTTYPE=image/webp:https://lherberiedelasaulx.fr/wp-content/uploads/2025/05/Atelier-poterie.webp
ORGANIZER;CN="L'Herberie de la Saulx":MAILTO:contact@lherberiedelasaulx.fr
END:VEVENT
BEGIN:VEVENT
DTSTART;TZID=Europe/Paris:20250529T100000
DTEND;TZID=Europe/Paris:20250529T120000
DTSTAMP:20260422T155031
CREATED:20250505T080030Z
LAST-MODIFIED:20250505T212025Z
UID:3612-1748512800-1748520000@lherberiedelasaulx.fr
SUMMARY:Atelier Bulle Verte "De cœur à corps"
DESCRIPTION:  Venez participer à nos ateliers bien-être pour les enfants et leurs parents ! Un temps de (re)connexion à soi\, à l’autre et à la Nature… \n\nAu programme :– Mieux se connaître– Bien communiquer– Découvrir la nature– Créer ensemble– Repartir avec des idées pour la maison\n\n👩🏻‍👦🏼La mini Bulle Verte est là pour accueillir les enfants de deux à cinq ans et leurs parents. Elle dure une heure et demi.\n\n👩🏻‍👦🏼La Bulle Verte est accessible aux enfants de six à dix ans\, accompagnés de leurs parents\, l’atelier dure deux heures.\n\n👩🏻‍👦🏼La Bulle Verte des ados est accessible aux jeunes à partir de onze ans\, accompagnés de leurs parents\, l’atelier dure deux heures.\n\nLes duos peuvent également se composer d’un enfant avec l’un de ses grands-parents ou un éducateur !\n\nLes Bulles Vertes sont thématiques. Retrouvez toutes les informations\, la liste des ateliers et le lien d’inscription sur notre site internet : https://lherberiedelasaulx.fr/bulle-verte/\n 
URL:https://lherberiedelasaulx.fr/evt/atelier-bulle-verte-de-coeur-a-corps/
LOCATION:L’Herberie de la Saulx\, 11 rue de Rippe\, Mognéville\, 55800\, France
CATEGORIES:Accueil à la ferme,Espace bien-être,Stages et ateliers
ATTACH;FMTTYPE=image/webp:https://lherberiedelasaulx.fr/wp-content/uploads/2025/05/Atelier-bulle-verte-mai-juin2025.webp
ORGANIZER;CN="L'Herberie de la Saulx":MAILTO:contact@lherberiedelasaulx.fr
END:VEVENT
BEGIN:VEVENT
DTSTART;TZID=Europe/Paris:20250529T140000
DTEND;TZID=Europe/Paris:20250529T160000
DTSTAMP:20260422T155031
CREATED:20250505T083138Z
LAST-MODIFIED:20250505T083138Z
UID:3618-1748527200-1748534400@lherberiedelasaulx.fr
SUMMARY:Atelier Bulle Verte Ados "De cœur à corps"
DESCRIPTION:  Venez participer à nos ateliers bien-être pour les enfants et leurs parents ! Un temps de (re)connexion à soi\, à l’autre et à la Nature… \n\nAu programme :– Mieux se connaître– Bien communiquer– Découvrir la nature– Créer ensemble– Repartir avec des idées pour la maison\n\n👩🏻‍👦🏼La mini Bulle Verte est là pour accueillir les enfants de deux à cinq ans et leurs parents. Elle dure une heure et demi.\n\n👩🏻‍👦🏼La Bulle Verte est accessible aux enfants de six à dix ans\, accompagnés de leurs parents\, l’atelier dure deux heures.\n\n👩🏻‍👦🏼La Bulle Verte des ados est accessible aux jeunes à partir de onze ans\, accompagnés de leurs parents\, l’atelier dure deux heures.\n\nLes duos peuvent également se composer d’un enfant avec l’un de ses grands-parents ou un éducateur !\n\nLes Bulles Vertes sont thématiques. Retrouvez toutes les informations\, la liste des ateliers et le lien d’inscription sur notre site internet : https://lherberiedelasaulx.fr/bulle-verte/\n 
URL:https://lherberiedelasaulx.fr/evt/atelier-bulle-verte-ados-de-coeur-a-corps/
LOCATION:L’Herberie de la Saulx\, 11 rue de Rippe\, Mognéville\, 55800\, France
CATEGORIES:Accueil à la ferme,Espace bien-être,Stages et ateliers
ATTACH;FMTTYPE=image/webp:https://lherberiedelasaulx.fr/wp-content/uploads/2025/05/Atelier-bulle-verte-mai-juin2025.webp
ORGANIZER;CN="L'Herberie de la Saulx":MAILTO:contact@lherberiedelasaulx.fr
END:VEVENT
END:VCALENDAR