BEGIN:VCALENDAR
VERSION:2.0
PRODID:-//L&#039;Herberie de la Saulx - ECPv6.15.20//NONSGML v1.0//EN
CALSCALE:GREGORIAN
METHOD:PUBLISH
X-ORIGINAL-URL:https://lherberiedelasaulx.fr
X-WR-CALDESC:Évènements pour L&#039;Herberie de la Saulx
REFRESH-INTERVAL;VALUE=DURATION:PT1H
X-Robots-Tag:noindex
X-PUBLISHED-TTL:PT1H
BEGIN:VTIMEZONE
TZID:Europe/Paris
BEGIN:DAYLIGHT
TZOFFSETFROM:+0100
TZOFFSETTO:+0200
TZNAME:CEST
DTSTART:20240331T010000
END:DAYLIGHT
BEGIN:STANDARD
TZOFFSETFROM:+0200
TZOFFSETTO:+0100
TZNAME:CET
DTSTART:20241027T010000
END:STANDARD
BEGIN:DAYLIGHT
TZOFFSETFROM:+0100
TZOFFSETTO:+0200
TZNAME:CEST
DTSTART:20250330T010000
END:DAYLIGHT
BEGIN:STANDARD
TZOFFSETFROM:+0200
TZOFFSETTO:+0100
TZNAME:CET
DTSTART:20251026T010000
END:STANDARD
BEGIN:DAYLIGHT
TZOFFSETFROM:+0100
TZOFFSETTO:+0200
TZNAME:CEST
DTSTART:20260329T010000
END:DAYLIGHT
BEGIN:STANDARD
TZOFFSETFROM:+0200
TZOFFSETTO:+0100
TZNAME:CET
DTSTART:20261025T010000
END:STANDARD
END:VTIMEZONE
BEGIN:VEVENT
DTSTART;TZID=Europe/Paris:20250316T100000
DTEND;TZID=Europe/Paris:20250316T170000
DTSTAMP:20260421T015745
CREATED:20250217T164941Z
LAST-MODIFIED:20250217T164941Z
UID:3176-1742119200-1742144400@lherberiedelasaulx.fr
SUMMARY:Chantier participatif : pierres sèches et aménagement de la mare
DESCRIPTION:Chantier participatif de fin d’hiver !\n\nOn va utiliser le reste de pierres du stage « Mur en pierres sèches » de l’automne dernier :\n pour aménager les abords de la mare pour dessiner quelques carrés qui deviendront un petit jardin pédagogique\n\nSi ça vous tente de venir nous donner un petit coup de main dans la bonne humeur\, n’hésitez pas à nous rejoindre !\n\nPensez à nous prévenir de votre participation (sur notre mail de contact ou par SMS\, ou par pigeon voyageur)\, pour qu’on puisse prévoir les collations suffisantes\, et pour qu’on vous prévienne en cas de modification (surtout si  !)\n\nRDV vers 10h à la ferme\, repas tiré du sac et fin de la journée quand ça vous chante
URL:https://lherberiedelasaulx.fr/evt/chantier-mare/
LOCATION:L’Herberie de la Saulx\, 11 rue de Rippe\, Mognéville\, 55800\, France
CATEGORIES:Accueil à la ferme,Chantier participatif
ATTACH;FMTTYPE=image/webp:https://lherberiedelasaulx.fr/wp-content/uploads/2025/02/chantier-mare-15-03.webp
ORGANIZER;CN="L'Herberie de la Saulx":MAILTO:contact@lherberiedelasaulx.fr
END:VEVENT
END:VCALENDAR