BEGIN:VCALENDAR
VERSION:2.0
PRODID:-//L&#039;Herberie de la Saulx - ECPv6.15.20//NONSGML v1.0//EN
CALSCALE:GREGORIAN
METHOD:PUBLISH
X-ORIGINAL-URL:https://lherberiedelasaulx.fr
X-WR-CALDESC:Évènements pour L&#039;Herberie de la Saulx
REFRESH-INTERVAL;VALUE=DURATION:PT1H
X-Robots-Tag:noindex
X-PUBLISHED-TTL:PT1H
BEGIN:VTIMEZONE
TZID:Europe/Paris
BEGIN:DAYLIGHT
TZOFFSETFROM:+0100
TZOFFSETTO:+0200
TZNAME:CEST
DTSTART:20230326T010000
END:DAYLIGHT
BEGIN:STANDARD
TZOFFSETFROM:+0200
TZOFFSETTO:+0100
TZNAME:CET
DTSTART:20231029T010000
END:STANDARD
BEGIN:DAYLIGHT
TZOFFSETFROM:+0100
TZOFFSETTO:+0200
TZNAME:CEST
DTSTART:20240331T010000
END:DAYLIGHT
BEGIN:STANDARD
TZOFFSETFROM:+0200
TZOFFSETTO:+0100
TZNAME:CET
DTSTART:20241027T010000
END:STANDARD
BEGIN:DAYLIGHT
TZOFFSETFROM:+0100
TZOFFSETTO:+0200
TZNAME:CEST
DTSTART:20250330T010000
END:DAYLIGHT
BEGIN:STANDARD
TZOFFSETFROM:+0200
TZOFFSETTO:+0100
TZNAME:CET
DTSTART:20251026T010000
END:STANDARD
END:VTIMEZONE
BEGIN:VEVENT
DTSTART;TZID=Europe/Paris:20240203T073000
DTEND;TZID=Europe/Paris:20240203T123000
DTSTAMP:20260420T204325
CREATED:20240129T202018Z
LAST-MODIFIED:20240129T202820Z
UID:2266-1706945400-1706963400@lherberiedelasaulx.fr
SUMMARY:Marché alimentaire
DESCRIPTION:L’Herberie de la Saulx est présente sur le marché alimentaire de Bar-le-Duc le premier samedi de chaque mois.
URL:https://lherberiedelasaulx.fr/evt/marche-alimentaire/
LOCATION:Marché de Bar-le-Duc\, rue du Four\, Bar-le-Duc\, 55000\, France
CATEGORIES:Marchés et salons
ATTACH;FMTTYPE=image/jpeg:https://lherberiedelasaulx.fr/wp-content/uploads/2024/01/marche-BLD.jpg
END:VEVENT
BEGIN:VEVENT
DTSTART;TZID=Europe/Paris:20240211T083000
DTEND;TZID=Europe/Paris:20240211T123000
DTSTAMP:20260420T204325
CREATED:20240129T202459Z
LAST-MODIFIED:20240204T140155Z
UID:2269-1707640200-1707654600@lherberiedelasaulx.fr
SUMMARY:Marché local
DESCRIPTION:L’Herberie de la Saulx est présente sur le marché alimentaire et culturel de Fains-Veel le deuxième dimanche de chaque mois.
URL:https://lherberiedelasaulx.fr/evt/marche-local/
LOCATION:Marché de Fains\, place de la mairie\, Fains-Veel\, 55000\, France
CATEGORIES:Marchés et salons
ATTACH;FMTTYPE=image/jpeg:https://lherberiedelasaulx.fr/wp-content/uploads/2024/02/marche-Fains.jpg
END:VEVENT
BEGIN:VEVENT
DTSTART;TZID=Europe/Paris:20240218T100000
DTEND;TZID=Europe/Paris:20240218T180000
DTSTAMP:20260420T204325
CREATED:20240204T142921Z
LAST-MODIFIED:20240204T142921Z
UID:2288-1708250400-1708279200@lherberiedelasaulx.fr
SUMMARY:Salon Soin et bien-être
DESCRIPTION:Deuxième édition de ce salon Soin et bien-être Marnais. \nNombreux exposants et praticiens autour de la santé et de la détente\, ateliers et animation. Restauration locale sur place
URL:https://lherberiedelasaulx.fr/evt/salon-soin-et-bien-etre/
LOCATION:Frignicourt\, 89 Rue du Général Leclerc\, Frignicourt\, 51300\, France
CATEGORIES:Marchés et salons
ATTACH;FMTTYPE=image/jpeg:https://lherberiedelasaulx.fr/wp-content/uploads/2024/02/salon-soin-et-bien-etre-frignicourt.jpg
END:VEVENT
BEGIN:VEVENT
DTSTART;TZID=Europe/Paris:20240224T090000
DTEND;TZID=Europe/Paris:20240224T130000
DTSTAMP:20260420T204325
CREATED:20240221T200655Z
LAST-MODIFIED:20240221T200655Z
UID:2311-1708765200-1708779600@lherberiedelasaulx.fr
SUMMARY:Découverte & dégustation
DESCRIPTION:Nicolas sera présent à la Ferme du centre à Chalons en champagne pour vous faire découvrir et déguster nos produits
URL:https://lherberiedelasaulx.fr/evt/ferme-du-centre/
LOCATION:La Ferme du Cantre\, 1 rue des fripiers\, Chalons en Champagne\, 51000\, France
CATEGORIES:Marchés et salons
ATTACH;FMTTYPE=image/jpeg:https://lherberiedelasaulx.fr/wp-content/uploads/2024/02/ferme-du-centre.jpg
END:VEVENT
END:VCALENDAR