BEGIN:VCALENDAR
VERSION:2.0
PRODID:-//L&#039;Herberie de la Saulx - ECPv6.15.20//NONSGML v1.0//EN
CALSCALE:GREGORIAN
METHOD:PUBLISH
X-ORIGINAL-URL:https://lherberiedelasaulx.fr
X-WR-CALDESC:Évènements pour L&#039;Herberie de la Saulx
REFRESH-INTERVAL;VALUE=DURATION:PT1H
X-Robots-Tag:noindex
X-PUBLISHED-TTL:PT1H
BEGIN:VTIMEZONE
TZID:Europe/Paris
BEGIN:DAYLIGHT
TZOFFSETFROM:+0100
TZOFFSETTO:+0200
TZNAME:CEST
DTSTART:20230326T010000
END:DAYLIGHT
BEGIN:STANDARD
TZOFFSETFROM:+0200
TZOFFSETTO:+0100
TZNAME:CET
DTSTART:20231029T010000
END:STANDARD
BEGIN:DAYLIGHT
TZOFFSETFROM:+0100
TZOFFSETTO:+0200
TZNAME:CEST
DTSTART:20240331T010000
END:DAYLIGHT
BEGIN:STANDARD
TZOFFSETFROM:+0200
TZOFFSETTO:+0100
TZNAME:CET
DTSTART:20241027T010000
END:STANDARD
BEGIN:DAYLIGHT
TZOFFSETFROM:+0100
TZOFFSETTO:+0200
TZNAME:CEST
DTSTART:20250330T010000
END:DAYLIGHT
BEGIN:STANDARD
TZOFFSETFROM:+0200
TZOFFSETTO:+0100
TZNAME:CET
DTSTART:20251026T010000
END:STANDARD
END:VTIMEZONE
BEGIN:VEVENT
DTSTART;TZID=Europe/Paris:20240504T090000
DTEND;TZID=Europe/Paris:20240504T180000
DTSTAMP:20260420T155021
CREATED:20240204T151121Z
LAST-MODIFIED:20240204T151121Z
UID:2291-1714813200-1714845600@lherberiedelasaulx.fr
SUMMARY:Marché Bio
DESCRIPTION:Marché Bio annuel à Bar-le-Duc\, 19ème édition
URL:https://lherberiedelasaulx.fr/evt/marche-bio/
LOCATION:Marché de Bar-le-Duc\, rue du Four\, Bar-le-Duc\, 55000\, France
CATEGORIES:Marchés et salons
ATTACH;FMTTYPE=image/jpeg:https://lherberiedelasaulx.fr/wp-content/uploads/2024/02/marche-bio.jpg
END:VEVENT
BEGIN:VEVENT
DTSTART;TZID=Europe/Paris:20240505T090000
DTEND;TZID=Europe/Paris:20240505T180000
DTSTAMP:20260420T155021
CREATED:20240130T213444Z
LAST-MODIFIED:20240130T213444Z
UID:2277-1714899600-1714932000@lherberiedelasaulx.fr
SUMMARY:Marché de producteurs
DESCRIPTION:Marché des Producteurs locaux et de l’Artisanat
URL:https://lherberiedelasaulx.fr/evt/marche-de-producteurs/
LOCATION:Abbaye de Trois-Fontaines\, 6 Route de Robert d'Espagne\, Trois-Fontaines-l'Abbaye\, 51340\, France
CATEGORIES:Marchés et salons
ATTACH;FMTTYPE=image/jpeg:https://lherberiedelasaulx.fr/wp-content/uploads/2024/01/Trois-Fontaines.jpg
END:VEVENT
BEGIN:VEVENT
DTSTART;TZID=Europe/Paris:20240512T083000
DTEND;TZID=Europe/Paris:20240512T123000
DTSTAMP:20260420T155021
CREATED:20240520T095515Z
LAST-MODIFIED:20240520T095515Z
UID:2422-1715502600-1715517000@lherberiedelasaulx.fr
SUMMARY:Marché local
DESCRIPTION:L’Herberie de la Saulx est présente sur le marché alimentaire et culturel de Fains-Veel le deuxième dimanche de chaque mois.
URL:https://lherberiedelasaulx.fr/evt/marche-local-4/
LOCATION:Marché de Fains\, place de la mairie\, Fains-Veel\, 55000\, France
CATEGORIES:Marchés et salons
ATTACH;FMTTYPE=image/jpeg:https://lherberiedelasaulx.fr/wp-content/uploads/2024/02/marche-Fains.jpg
END:VEVENT
END:VCALENDAR