BEGIN:VCALENDAR
VERSION:2.0
PRODID:-//L&#039;Herberie de la Saulx - ECPv6.15.20//NONSGML v1.0//EN
CALSCALE:GREGORIAN
METHOD:PUBLISH
X-WR-CALNAME:L&#039;Herberie de la Saulx
X-ORIGINAL-URL:https://lherberiedelasaulx.fr
X-WR-CALDESC:Évènements pour L&#039;Herberie de la Saulx
REFRESH-INTERVAL;VALUE=DURATION:PT1H
X-Robots-Tag:noindex
X-PUBLISHED-TTL:PT1H
BEGIN:VTIMEZONE
TZID:Europe/Paris
BEGIN:DAYLIGHT
TZOFFSETFROM:+0100
TZOFFSETTO:+0200
TZNAME:CEST
DTSTART:20230326T010000
END:DAYLIGHT
BEGIN:STANDARD
TZOFFSETFROM:+0200
TZOFFSETTO:+0100
TZNAME:CET
DTSTART:20231029T010000
END:STANDARD
BEGIN:DAYLIGHT
TZOFFSETFROM:+0100
TZOFFSETTO:+0200
TZNAME:CEST
DTSTART:20240331T010000
END:DAYLIGHT
BEGIN:STANDARD
TZOFFSETFROM:+0200
TZOFFSETTO:+0100
TZNAME:CET
DTSTART:20241027T010000
END:STANDARD
BEGIN:DAYLIGHT
TZOFFSETFROM:+0100
TZOFFSETTO:+0200
TZNAME:CEST
DTSTART:20250330T010000
END:DAYLIGHT
BEGIN:STANDARD
TZOFFSETFROM:+0200
TZOFFSETTO:+0100
TZNAME:CET
DTSTART:20251026T010000
END:STANDARD
END:VTIMEZONE
BEGIN:VEVENT
DTSTART;TZID=Europe/Paris:20240601T073000
DTEND;TZID=Europe/Paris:20240601T123000
DTSTAMP:20260424T141148
CREATED:20240520T095222Z
LAST-MODIFIED:20240520T095222Z
UID:2416-1717227000-1717245000@lherberiedelasaulx.fr
SUMMARY:Marché alimentaire
DESCRIPTION:L’Herberie de la Saulx est présente sur le marché alimentaire de Bar-le-Duc le premier samedi de chaque mois.
URL:https://lherberiedelasaulx.fr/evt/marche-alimentaire-4/
LOCATION:Marché de Bar-le-Duc\, rue du Four\, Bar-le-Duc\, 55000\, France
CATEGORIES:Marchés et salons
ATTACH;FMTTYPE=image/jpeg:https://lherberiedelasaulx.fr/wp-content/uploads/2024/01/marche-BLD.jpg
END:VEVENT
BEGIN:VEVENT
DTSTART;TZID=Europe/Paris:20240607T140000
DTEND;TZID=Europe/Paris:20240609T180000
DTSTAMP:20260424T141148
CREATED:20240312T155803Z
LAST-MODIFIED:20240312T163714Z
UID:2341-1717768800-1717956000@lherberiedelasaulx.fr
SUMMARY:Journées Nationales de l'Agriculture
DESCRIPTION:Vendredi 7 juin \n\nAccueil pédagogique l’après-midi (sur réservation)\nVisite de la ferme à 17h (entrée libre)\nBoutique ouverte de 16h à 19h\n\n  \nSamedi 8 juin \n\nAtelier “Trousse de soin au naturel” avec la naturopathe Isabelle Jamin à 14h (sur inscription)\nVisite de la ferme à 17h (entrée libre)\nBoutique ouverte de 9h à 19h\nConcert de Jazz en soirée\n\n  \nDimanche 9 juin \n\nAnimation numérique autour des plantes avec le Pôle Coopératif de Revnigny\nVisite de la ferme à 10h et 15h (entrée libre)\nBoutique ouverte de 9h à 18h
URL:https://lherberiedelasaulx.fr/evt/jna-2024/
LOCATION:L’Herberie de la Saulx\, 11 rue de Rippe\, Mognéville\, 55800\, France
CATEGORIES:Accueil à la ferme
ATTACH;FMTTYPE=image/jpeg:https://lherberiedelasaulx.fr/wp-content/uploads/2024/03/JNA2024.jpg
ORGANIZER;CN="L'Herberie de la Saulx":MAILTO:contact@lherberiedelasaulx.fr
END:VEVENT
BEGIN:VEVENT
DTSTART;TZID=Europe/Paris:20240608T140000
DTEND;TZID=Europe/Paris:20240608T163000
DTSTAMP:20260424T141148
CREATED:20240225T190643Z
LAST-MODIFIED:20240304T151119Z
UID:2325-1717855200-1717864200@lherberiedelasaulx.fr
SUMMARY:Stage : composer sa trousse de soin au naturel
DESCRIPTION:Vous voulez comprendre quelles plantes seront vos alliées pour l’été et préparer quelques remèdes personnalisés ? \n\nVenez apprendre à composer votre trousse de soin naturelle pour les vacances avec la naturopathe Isabelle Jamin\, à l’Herberie de la Saulx.\n\nStage pour adultes et adolescents\n\nLe samedi 8 juin de 14h à 16h30\ntarif : 25 € (20 € pour les adhérent-es de l’association « l’Herberie et Cie »)\nLe tarif comprend l’atelier et les conseils d’Isabelle\, prix en sus pour l’achat de produits à l’Herberie de la Saulx.\n\nInscription en ligne obligatoire avant le jeudi 6 juin !
URL:https://lherberiedelasaulx.fr/evt/trousse-soin/
LOCATION:L’Herberie de la Saulx\, 11 rue de Rippe\, Mognéville\, 55800\, France
CATEGORIES:Stages et ateliers
ATTACH;FMTTYPE=image/jpeg:https://lherberiedelasaulx.fr/wp-content/uploads/2024/02/stage-trousse-au-naturel.jpg
END:VEVENT
BEGIN:VEVENT
DTSTART;TZID=Europe/Paris:20240608T190000
DTEND;TZID=Europe/Paris:20240608T233000
DTSTAMP:20260424T141148
CREATED:20240520T100857Z
LAST-MODIFIED:20240520T100857Z
UID:2391-1717873200-1717889400@lherberiedelasaulx.fr
SUMMARY:Concert Finn's Orléans Band
DESCRIPTION:Le Finn’s Orléans Band est un Orchestre Brass Band de musique Jazz de la Nouvelle Orleans.\n\nIls vous proposent un concert haut en couleurs à l’Herberie de la Saulx\, suivi d’une soirée repas / échange avec les musiciens.\n\nSur réservation
URL:https://lherberiedelasaulx.fr/evt/concert-jazz/
LOCATION:L’Herberie de la Saulx\, 11 rue de Rippe\, Mognéville\, 55800\, France
CATEGORIES:Accueil à la ferme
ATTACH;FMTTYPE=image/jpeg:https://lherberiedelasaulx.fr/wp-content/uploads/2024/05/Com-evenements-herberie-site-internet.jpg
ORGANIZER;CN="L'Herberie de la Saulx":MAILTO:contact@lherberiedelasaulx.fr
END:VEVENT
BEGIN:VEVENT
DTSTART;TZID=Europe/Paris:20240609T083000
DTEND;TZID=Europe/Paris:20240609T123000
DTSTAMP:20260424T141148
CREATED:20240520T095605Z
LAST-MODIFIED:20240520T095605Z
UID:2424-1717921800-1717936200@lherberiedelasaulx.fr
SUMMARY:Marché local
DESCRIPTION:L’Herberie de la Saulx est présente sur le marché alimentaire et culturel de Fains-Veel le deuxième dimanche de chaque mois.
URL:https://lherberiedelasaulx.fr/evt/marche-local-5/
LOCATION:Marché de Fains\, place de la mairie\, Fains-Veel\, 55000\, France
CATEGORIES:Marchés et salons
ATTACH;FMTTYPE=image/jpeg:https://lherberiedelasaulx.fr/wp-content/uploads/2024/02/marche-Fains.jpg
END:VEVENT
END:VCALENDAR