BEGIN:VCALENDAR
VERSION:2.0
PRODID:-//L&#039;Herberie de la Saulx - ECPv6.15.20//NONSGML v1.0//EN
CALSCALE:GREGORIAN
METHOD:PUBLISH
X-WR-CALNAME:L&#039;Herberie de la Saulx
X-ORIGINAL-URL:https://lherberiedelasaulx.fr
X-WR-CALDESC:Évènements pour L&#039;Herberie de la Saulx
REFRESH-INTERVAL;VALUE=DURATION:PT1H
X-Robots-Tag:noindex
X-PUBLISHED-TTL:PT1H
BEGIN:VTIMEZONE
TZID:Europe/Paris
BEGIN:DAYLIGHT
TZOFFSETFROM:+0100
TZOFFSETTO:+0200
TZNAME:CEST
DTSTART:20240331T010000
END:DAYLIGHT
BEGIN:STANDARD
TZOFFSETFROM:+0200
TZOFFSETTO:+0100
TZNAME:CET
DTSTART:20241027T010000
END:STANDARD
BEGIN:DAYLIGHT
TZOFFSETFROM:+0100
TZOFFSETTO:+0200
TZNAME:CEST
DTSTART:20250330T010000
END:DAYLIGHT
BEGIN:STANDARD
TZOFFSETFROM:+0200
TZOFFSETTO:+0100
TZNAME:CET
DTSTART:20251026T010000
END:STANDARD
BEGIN:DAYLIGHT
TZOFFSETFROM:+0100
TZOFFSETTO:+0200
TZNAME:CEST
DTSTART:20260329T010000
END:DAYLIGHT
BEGIN:STANDARD
TZOFFSETFROM:+0200
TZOFFSETTO:+0100
TZNAME:CET
DTSTART:20261025T010000
END:STANDARD
END:VTIMEZONE
BEGIN:VEVENT
DTSTART;TZID=Europe/Paris:20251122T093000
DTEND;TZID=Europe/Paris:20251122T173000
DTSTAMP:20260421T115441
CREATED:20250925T134930Z
LAST-MODIFIED:20250925T135312Z
UID:4213-1763803800-1763832600@lherberiedelasaulx.fr
SUMMARY:Stage : vannerie sauvage et créative
DESCRIPTION:Découvrez l’Art Ancestral de la Vannerie Sauvage \nPlongez dans l’univers fascinant de la vannerie sauvage le temps d’une journée à l’Herberie de la Saulx. Apprenez à créer des objets uniques et écologiques en utilisant les matériaux que la nature nous offre.\n\n Dates et Lieule samedi 22 novembre 2025 de 9h30 à 17h30à l’Herberie de la Saulx\, 11 rue de Rippe à Mognéville (55)\n\n Objectifs du Stage– Apprendre à identifier et récolter les plantes sauvages propices à la vannerie– Maîtriser les techniques de base du tressage et du tissage– Créer vos propres objets en matériaux naturels– Développer une connexion profonde avec la nature et ses ressources\n\n Au programmeIntroduction à la vannerie sauvage et son histoireSortie de reconnaissance et cueillette des matériauxInitiation aux techniques de baseRéalisation d’un projet personnel (panier\, nasse\, ou objet décoratif)Finitions et conseils pour l’entretien de vos créations\n\n Votre FormatriceVirginie\, animatrice nature de l’association Meuse Nature Environnement\, partage son savoir-faire acquis au fil de nombreuses années d’expérience. Son approche allie technique et créativité\, dans le respect de l’environnement.\n\n À Prévoir– Vêtements adaptés aux activités extérieures– Chaussures confortables (une petite marche est prévue pour aller récolter les plantes)– Gants de jardinage– Sécateur (si vous en possédez un)– Carnet de notes et appareil photo (facultatif)– Repas tiré du sac pour le midi\n\n Tarif et InscriptionPrix : 50€ par personne / 45€ pour les adhérents des associations MNE et l’Herberie et CiePublic : adultes et adolescents (possibilité à partir de 10 ans si l’enfant est accompagné d’un adulte)Nombre de places limité à 12 participantsInscription en ligne obligatoire avant le 16 novembre 2025\n\n Contact et InscriptionPour obtenir plus d’informations :Tél : 03 29 76 13 14 (MNE) ou 06 72 17 35 50 (Herberie)Email : contact@meusenature.fr ou delphine@lherberiedelasaulx.fr Pour vous inscrire : https://lherberiedelasaulx.fr/stages-ateliers/\n\n Offrez-vous une parenthèse nature et créative. Repartez avec vos créations uniques et des souvenirs inoubliables !\nCe stage s’adresse à tous\, débutants comme initiés. Aucune expérience préalable n’est nécessaire.
URL:https://lherberiedelasaulx.fr/evt/stage-vannerie-sauvage-et-creative/
LOCATION:L’Herberie de la Saulx\, 11 rue de Rippe\, Mognéville\, 55800\, France
CATEGORIES:Stages et ateliers
ATTACH;FMTTYPE=image/webp:https://lherberiedelasaulx.fr/wp-content/uploads/2025/09/vannerie-novembre-2025.webp
ORGANIZER;CN="L'Herberie de la Saulx":MAILTO:contact@lherberiedelasaulx.fr
END:VEVENT
BEGIN:VEVENT
DTSTART;TZID=Europe/Paris:20251123T093000
DTEND;TZID=Europe/Paris:20251123T173000
DTSTAMP:20260421T115441
CREATED:20250925T135021Z
LAST-MODIFIED:20250925T135021Z
UID:4215-1763890200-1763919000@lherberiedelasaulx.fr
SUMMARY:Stage : vannerie sauvage et créative
DESCRIPTION:Découvrez l’Art Ancestral de la Vannerie Sauvage \nPlongez dans l’univers fascinant de la vannerie sauvage le temps d’une journée à l’Herberie de la Saulx. Apprenez à créer des objets uniques et écologiques en utilisant les matériaux que la nature nous offre.\n\n Dates et Lieule samedi 22 novembre 2025 de 9h30 à 17h30à l’Herberie de la Saulx\, 11 rue de Rippe à Mognéville (55)\n\n Objectifs du Stage– Apprendre à identifier et récolter les plantes sauvages propices à la vannerie– Maîtriser les techniques de base du tressage et du tissage– Créer vos propres objets en matériaux naturels– Développer une connexion profonde avec la nature et ses ressources\n\n Au programmeIntroduction à la vannerie sauvage et son histoireSortie de reconnaissance et cueillette des matériauxInitiation aux techniques de baseRéalisation d’un projet personnel (panier\, nasse\, ou objet décoratif)Finitions et conseils pour l’entretien de vos créations\n\n Votre FormatriceVirginie\, animatrice nature de l’association Meuse Nature Environnement\, partage son savoir-faire acquis au fil de nombreuses années d’expérience. Son approche allie technique et créativité\, dans le respect de l’environnement.\n\n À Prévoir– Vêtements adaptés aux activités extérieures– Chaussures confortables (une petite marche est prévue pour aller récolter les plantes)– Gants de jardinage– Sécateur (si vous en possédez un)– Carnet de notes et appareil photo (facultatif)– Repas tiré du sac pour le midi\n\n Tarif et InscriptionPrix : 50€ par personne / 45€ pour les adhérents des associations MNE et l’Herberie et CiePublic : adultes et adolescents (possibilité à partir de 10 ans si l’enfant est accompagné d’un adulte)Nombre de places limité à 12 participantsInscription en ligne obligatoire avant le 16 novembre 2025\n\n Contact et InscriptionPour obtenir plus d’informations :Tél : 03 29 76 13 14 (MNE) ou 06 72 17 35 50 (Herberie)Email : contact@meusenature.fr ou delphine@lherberiedelasaulx.fr Pour vous inscrire : https://lherberiedelasaulx.fr/stages-ateliers/\n\n Offrez-vous une parenthèse nature et créative. Repartez avec vos créations uniques et des souvenirs inoubliables !\nCe stage s’adresse à tous\, débutants comme initiés. Aucune expérience préalable n’est nécessaire.
URL:https://lherberiedelasaulx.fr/evt/stage-vannerie-sauvage-et-creative-2/
LOCATION:L’Herberie de la Saulx\, 11 rue de Rippe\, Mognéville\, 55800\, France
CATEGORIES:Stages et ateliers
ATTACH;FMTTYPE=image/webp:https://lherberiedelasaulx.fr/wp-content/uploads/2025/09/vannerie-novembre-2025.webp
ORGANIZER;CN="L'Herberie de la Saulx":MAILTO:contact@lherberiedelasaulx.fr
END:VEVENT
BEGIN:VEVENT
DTSTART;TZID=Europe/Paris:20251129T093000
DTEND;TZID=Europe/Paris:20251129T163000
DTSTAMP:20260421T115441
CREATED:20251008T125719Z
LAST-MODIFIED:20251008T125719Z
UID:4229-1764408600-1764433800@lherberiedelasaulx.fr
SUMMARY:Stage : déco de Noël au naturel
DESCRIPTION:Créez la Magie de Noël avec les Trésors de la Nature ! \nPlongez dans l’esprit de Noël tout en respectant l’environnement ! Rejoignez-nous pour un atelier magique où vous apprendrez à créer vos propres décorations de Noël en utilisant uniquement des matériaux naturels et de récupération.\n\n Dates et Lieule samedi 29 novembre 2025 de 9h30 à 16h30à l’Herberie de la Saulx\, 11 rue de Rippe à Mognéville (55)\n\n Objectifs du Stage– Découvrir des techniques de création de décorations naturelles– Apprendre à utiliser les matériaux de la nature de manière créative– Réaliser vos propres décorations de Noël écologiques– Repartir avec des idées pour un Noël plus durable\n\n Au programme– Présentation des matériaux naturels et de leurs utilisations– Sortie de reconnaissance et cueillette des matériaux– Initiation aux techniques de base– Réalisation d’un ou plusieurs objets décoratifs– Finitions et conseils pour l’entretien de vos créations\n\n Votre FormatriceVirginie\, animatrice nature de l’association Meuse Nature Environnement\, partage son savoir-faire acquis au fil de nombreuses années d’expérience. Son approche allie technique et créativité\, dans le respect de l’environnement.\n\n À PrévoirVêtements adaptés aux activités extérieuresChaussures confortables (une petite marche est prévue pour aller récolter les plantes)Gants de jardinageSécateur (si vous en possédez un)Carnet de notes et appareil photo (facultatif)Repas tiré du sac pour le midiVotre bonne humeur !Tous les autres matériaux seront fournis\, mais n’hésitez pas à apporter vos propres trésors naturels si vous le souhaitez !\n\n Tarif et InscriptionPrix : 50€ par personne / 45€ pour les adhérents des associations MNE et l’Herberie et CiePublic : adultes et adolescents (possibilité à partir de 10 ans si l’enfant est accompagné d’un adulte)Nombre de places limité à 12 participantsRéservation obligatoire avant le 23 novembre 2025\n\n Contact et Inscriptionhttps://lherberiedelasaulx.fr/stages-ateliers/\n\n Préparez un Noël écologique et personnalisé ! Repartez avec vos créations uniques et des idées plein la tête pour des fêtes plus vertes. \n\nCet atelier est ouvert à tous\, aucune expérience créative préalable n’est nécessaire. Laissez parler votre créativité !
URL:https://lherberiedelasaulx.fr/evt/stage-deco-de-noel-au-naturel/
LOCATION:L’Herberie de la Saulx\, 11 rue de Rippe\, Mognéville\, 55800\, France
CATEGORIES:Stages et ateliers
ATTACH;FMTTYPE=image/webp:https://lherberiedelasaulx.fr/wp-content/uploads/2025/09/deco-noel-novembre-2025.webp
ORGANIZER;CN="L'Herberie de la Saulx":MAILTO:contact@lherberiedelasaulx.fr
END:VEVENT
BEGIN:VEVENT
DTSTART;TZID=Europe/Paris:20251130T093000
DTEND;TZID=Europe/Paris:20251130T173000
DTSTAMP:20260421T115441
CREATED:20251008T124616Z
LAST-MODIFIED:20251008T124616Z
UID:4224-1764495000-1764523800@lherberiedelasaulx.fr
SUMMARY:Stage : créer un panier en escalier
DESCRIPTION:Développez l’Art Ancestral de la Vannerie Sauvage \nPlongez dans l’univers fascinant de la vannerie sauvage le temps d’une journée à l’Herberie de la Saulx. Apprenez à créer un panier unique et écologique en utilisant les matériaux que la nature nous offre.\n\n Dates et Lieule dimanche 30 novembre 2025 de 9h30 à 17h30à l’Herberie de la Saulx\, 11 rue de Rippe à Mognéville (55)\n\n Objectifs du Stage– Apprendre à identifier et récolter les plantes sauvages propices à la vannerie– Développer les techniques de base du tressage et du tissage– Créer un panier en escalier en matériaux naturels– Développer une connexion profonde avec la nature et ses ressources\n\n Au programmeIntroduction à la vannerie sauvage et son histoireSortie de reconnaissance et cueillette des matériauxRappel des techniques de baseRéalisation d’un panier en escalierFinitions et conseils pour l’entretien de vos créations\n\n Votre FormatriceVirginie\, animatrice nature de l’association Meuse Nature Environnement\, partage son savoir-faire acquis au fil de nombreuses années d’expérience. Son approche allie technique et créativité\, dans le respect de l’environnement.\n\n À Prévoir– Vêtements adaptés aux activités extérieures– Chaussures confortables (une petite marche est prévue pour aller récolter les plantes)– Gants de jardinage– Sécateur (si vous en possédez un)– Carnet de notes et appareil photo (facultatif)– Repas tiré du sac pour le midi\n\n Tarif et InscriptionPrix : 50€ par personne / 45€ pour les adhérents des associations MNE et l’Herberie et CiePublic : adultes et adolescents (possibilité à partir de 10 ans si l’enfant est accompagné d’un adulte)Nombre de places limité à 10 participants\n! Nécessité d’avoir déjà fait de la vannerie ou d’avoir participé à notre stage de découverte !Inscription en ligne obligatoire avant le 16 novembre 2025\n\n Contact et InscriptionPour vous inscrire ou obtenir plus d’informations :https://lherberiedelasaulx.fr/stages-ateliers/Tél : 03 29 76 13 14 (MNE) ou 06 72 17 35 50 (Herberie)Email : contact@meusenature.fr ou delphine@lherberiedelasaulx.fr\n\n Offrez-vous une parenthèse nature et créative. Repartez avec vos créations uniques et des souvenirs inoubliables !
URL:https://lherberiedelasaulx.fr/evt/stage-creer-un-panier-en-escalier/
LOCATION:L’Herberie de la Saulx\, 11 rue de Rippe\, Mognéville\, 55800\, France
CATEGORIES:Stages et ateliers
ATTACH;FMTTYPE=image/webp:https://lherberiedelasaulx.fr/wp-content/uploads/2025/09/vannerie-novembre-2025.webp
ORGANIZER;CN="L'Herberie de la Saulx":MAILTO:contact@lherberiedelasaulx.fr
END:VEVENT
END:VCALENDAR